BEGIN:VCALENDAR
VERSION:2.0
PRODID:-//Tactile Medical - ECPv6.6.4.2//NONSGML v1.0//EN
CALSCALE:GREGORIAN
METHOD:PUBLISH
X-ORIGINAL-URL:https://tactilemedical.com
X-WR-CALDESC:Events for Tactile Medical
REFRESH-INTERVAL;VALUE=DURATION:PT1H
X-Robots-Tag:noindex
X-PUBLISHED-TTL:PT1H
BEGIN:VTIMEZONE
TZID:UTC
BEGIN:STANDARD
TZOFFSETFROM:+0000
TZOFFSETTO:+0000
TZNAME:UTC
DTSTART:20250101T000000
END:STANDARD
END:VTIMEZONE
BEGIN:VEVENT
DTSTART;VALUE=DATE:20251013
DTEND;VALUE=DATE:20251014
DTSTAMP:20260420T162858
CREATED:20250819T214643Z
LAST-MODIFIED:20250819T214643Z
UID:15687-1760313600-1760399999@tactilemedical.com
SUMMARY:Advancing the Standard of Care in Breast Cancer-Related Lymphedema Management
DESCRIPTION:8-9 pm ET \nJoin us for a comprehensive webinar on managing the chronic and late effects of breast cancer treatment. Led by Jodi Winicour\, PT\, CMT\, CLT-LANA—a respected expert in the field—this session will cover key topics including breast edema\, radiation-related changes\, axillary web syndrome\, seromas\, and more. Jodi will also answer your questions and share insights into gold-standard treatment approaches to help guide clinical decision-making. \nPresenters:\nJodi Winicour\, PT\, CMT\, CLT-LANA \n*CE Credits will not be offered for this event. \nRegister today! \nPlease email medicaleducation@tactilemedical.com for additional information.
URL:https://tactilemedical.com/event/advancing-the-standard-of-care-in-breast-cancer-related-lymphedema-management/
CATEGORIES:Webinar
END:VEVENT
BEGIN:VEVENT
DTSTART;VALUE=DATE:20251029
DTEND;VALUE=DATE:20251030
DTSTAMP:20260420T162858
CREATED:20250912T185132Z
LAST-MODIFIED:20250912T190749Z
UID:15729-1761696000-1761782399@tactilemedical.com
SUMMARY:Advanced Strategies for Managing Breast Cancer-Related Lymphedema and Other Survivorship Issues
DESCRIPTION:12-1 pm ET | 8-9 pm ET \nThis advanced-level course is designed for experienced clinicians specializing in the management of breast cancer-related lymphedema. It offers an in-depth exploration of advanced treatment strategies\, anatomical complexities\, and the latest research shaping clinical practice. This course will enable attendees to gain new insights into fibrosis assessment and management\, as well as trunk\, chest\, and breast lymphatic dysfunction. Additionally\, the course will address critical survivorship challenges faced by patients during and after breast cancer treatment\, equipping providers with the knowledge to refine their approach and optimize patient care.       \nAt the end of the program\, the participants will be able to: \n1. Investigate anatomical pathways of the lymphatics throughout the upper body. \n2. Revise lymphedema assessment to include thorough investigation of lymphatic dysfunction of the trunk\, chest\, and breast regions. \n3. Develop a plan to effectively assess fibrosis throughout the upper quadrant. \n4. Investigate the patient for common survivorship issues associated with breast cancer treatment. \n5. Assess the patient for appropriate interventions\, including pneumatic compression\, to address lymphatic dysfunction and other common survivorship issues associated with breast cancer. \nTactile Medical is pleased to offer one continuing education contact hour (.1 CEU).* There is no penalty for cancellation of registration. Please see list of states approved. \nRegistration \nPlease email medicaleducation@tactilemedical.com for additional information.
URL:https://tactilemedical.com/event/advanced-strategies-for-managing-breast-cancer-related-lymphedema-and-other-survivorship-issues/
CATEGORIES:Continuing Education
END:VEVENT
END:VCALENDAR