BEGIN:VCALENDAR
VERSION:2.0
PRODID:-//Tactile Medical - ECPv6.6.4.2//NONSGML v1.0//EN
CALSCALE:GREGORIAN
METHOD:PUBLISH
X-ORIGINAL-URL:https://tactilemedical.com
X-WR-CALDESC:Events for Tactile Medical
REFRESH-INTERVAL;VALUE=DURATION:PT1H
X-Robots-Tag:noindex
X-PUBLISHED-TTL:PT1H
BEGIN:VTIMEZONE
TZID:UTC
BEGIN:STANDARD
TZOFFSETFROM:+0000
TZOFFSETTO:+0000
TZNAME:UTC
DTSTART:20250101T000000
END:STANDARD
END:VTIMEZONE
BEGIN:VEVENT
DTSTART;VALUE=DATE:20251210
DTEND;VALUE=DATE:20251211
DTSTAMP:20260420T073408
CREATED:20250918T185752Z
LAST-MODIFIED:20250918T185752Z
UID:15743-1765324800-1765411199@tactilemedical.com
SUMMARY:Advanced Topics in Head and Neck Cancer Rehabilitation
DESCRIPTION:12-1 pm ET | 8-9 pm ET \nThis advanced-level course is designed for experienced clinicians specializing in the management of HNC survivorship. It offers an in-depth exploration of advanced treatment strategies\, anatomical complexities\, and the latest research shaping clinical practice. It will enable attendees to gain new insights into assessment and management of treatment-related impairments to the lymphatic\, integumentary\, digestive\, musculoskeletal\, and neurological systems. The course will address the impact of internal lymphedema\, fibrosis\, swallowing function\, and psychosocial challenges. Survivorship models of care will be examined to equip providers with the knowledge to refine their approach and optimize patient care.       \nObjectives: \n1. Identify the multi-system effects of complex HNC treatments that may benefit from rehab intervention. \n2. Revise HNC assessment to include a thorough investigation of treatment-related symptoms observed in the integumentary\, digestive\, neuromuscular\, and lymphatic systems. \n3. Investigate survivorship models of care to promote early rehabilitation intervention and healthy psychosocial response. \n4. Introduce long term management options to minimize the progression of debilitating HNC related survivorship issues. \n5. Apply a multidisciplinary approach to HNC rehab. \nTactile Medical is pleased to offer one continuing education contact hour (.1 CEU).* There is no penalty for cancellation of registration. Please see list of states approved. \nRegistration \nPlease email medicaleducation@tactilemedical.com for additional information.
URL:https://tactilemedical.com/event/advanced-topics-in-head-and-neck-cancer-rehabilitation/
CATEGORIES:Continuing Education
END:VEVENT
END:VCALENDAR