BEGIN:VCALENDAR
VERSION:2.0
PRODID:-//Tactile Medical - ECPv6.6.4.2//NONSGML v1.0//EN
CALSCALE:GREGORIAN
METHOD:PUBLISH
X-ORIGINAL-URL:https://tactilemedical.com
X-WR-CALDESC:Events for Tactile Medical
REFRESH-INTERVAL;VALUE=DURATION:PT1H
X-Robots-Tag:noindex
X-PUBLISHED-TTL:PT1H
BEGIN:VTIMEZONE
TZID:UTC
BEGIN:STANDARD
TZOFFSETFROM:+0000
TZOFFSETTO:+0000
TZNAME:UTC
DTSTART:20250101T000000
END:STANDARD
END:VTIMEZONE
BEGIN:VEVENT
DTSTART;VALUE=DATE:20250304
DTEND;VALUE=DATE:20250305
DTSTAMP:20260424T103754
CREATED:20250205T212825Z
LAST-MODIFIED:20250610T163744Z
UID:14956-1741046400-1741132799@tactilemedical.com
SUMMARY:Optimizing Phlebolymphedema Management: New Clinical Data and Product Innovations
DESCRIPTION:8-9 pm ET \nWe invite you to attend our upcoming webinar featuring Drs. Christopher Compton\, Tony Gasparis and Kush Desai\, who will discuss the latest research on the crucial link between veins and lymphatics\, emphasizing the importance of early diagnosis and appropriate treatment pathways for patients suffering from phlebolymphedema. Don’t miss this opportunity to stay at the forefront of advancements in vascular and lymphatic care.   \nPlease Note: CE Credits will not be offered for this event. \nPresenters:\nChristopher Compton\, MD\nKush Desai\, MD\, FSIR\nTony Gasparis\, MD\, FACS \nRegistration \nPlease email medicaleducation@tactilemedical.com for additional information.
URL:https://tactilemedical.com/event/optimizing-phlebolymphedema-management-new-clinical-data-and-product-innovations/
CATEGORIES:Webinar
END:VEVENT
BEGIN:VEVENT
DTSTART;VALUE=DATE:20250319
DTEND;VALUE=DATE:20250320
DTSTAMP:20260424T103754
CREATED:20250107T161927Z
LAST-MODIFIED:20250610T164658Z
UID:14303-1742342400-1742428799@tactilemedical.com
SUMMARY:Breast Cancer-Related Lymphedema Continuing Education Course
DESCRIPTION:12-1 pm ET | 8-9 pm ET \nJoin us for a live webinar covering breast cancer risk factors\, diagnosis\, treatment\, and survivorship with an emphasis on identification and management of lymphedema. Tactile Medical is pleased to offer one continuing education contact hours (.1 CE).*  \nAt end of the program\, the participants will be able to: \n1. Explain how breast cancer and its treatments affect the anatomy and physiology of soft tissue\, lymphatics\, and function for patients \n2. Describe early identification of patients with breast cancer-related lymphedema (BCRL) based on updated National Comprehensive Cancer Network guidelines \n3. Describe how to assess impairments and lymphedema unique to patients with breast cancer \n4. Describe treatment options for BCRL \n5. Explain how use of surveillance programs for early identification and intervention can reduce the incidence of BCRL \nTactile Medical is pleased to offer this complimentary virtual course for one continuing education contact hours (.1 CE). There is no penalty for cancellation of registration. \nRegistration \nPlease email medicaleducation@tactilemedical.com for additional information.
URL:https://tactilemedical.com/event/breast-cancer-related-lymphedema-continuing-education-course-2025/
CATEGORIES:Continuing Education
END:VEVENT
END:VCALENDAR