BEGIN:VCALENDAR
VERSION:2.0
PRODID:-//Tactile Medical - ECPv6.6.4.2//NONSGML v1.0//EN
CALSCALE:GREGORIAN
METHOD:PUBLISH
X-ORIGINAL-URL:https://tactilemedical.com
X-WR-CALDESC:Events for Tactile Medical
REFRESH-INTERVAL;VALUE=DURATION:PT1H
X-Robots-Tag:noindex
X-PUBLISHED-TTL:PT1H
BEGIN:VTIMEZONE
TZID:UTC
BEGIN:STANDARD
TZOFFSETFROM:+0000
TZOFFSETTO:+0000
TZNAME:UTC
DTSTART:20250101T000000
END:STANDARD
END:VTIMEZONE
BEGIN:VEVENT
DTSTART;VALUE=DATE:20250205
DTEND;VALUE=DATE:20250206
DTSTAMP:20260420T010114
CREATED:20241205T150503Z
LAST-MODIFIED:20250610T162046Z
UID:14150-1738713600-1738799999@tactilemedical.com
SUMMARY:Wound Care Management for the Clinician Treating Lymphedema Continuing Education Course
DESCRIPTION:12-1 pm ET | 8-9 pm ET \nJoin us for a 1 hour live webinar on basic wound care skills for management of wounds in the presence of lymphedema\, including recognizing different types of common lower extremity wound etiologies\, as well as treatment with focus on venous leg ulcers. \nObjectives: \nAt end of the program\, the participants will be able to: \n1. Explain the functions of the skin and normal phases of wound healing \n2. Determine differential diagnosis characteristics among venous\, arterial\, neuropathic\, and pressure ulcers \n3. Identify characteristics of a comprehensive wound evaluation and treatment for venous leg ulcers with associated edema management \n4. Identify appropriate dressing selection pending wound presentation \n5. Describe compression options\, including the application of advanced pneumatic compression\, for comprehensive management of venous leg ulcers \nTactile Medical is pleased to offer this complimentary virtual course for one continuing education contact hours (.1 CE). There is no penalty for cancellation of registration. \n12-1 pm ET Registration               8-9 pm ET Registration  \nPlease email medicaleducation@tactilemedical.com for additional information.
URL:https://tactilemedical.com/event/wound-care-management-for-the-clinician-treating-lymphedema-continuing-education-course-2025/
CATEGORIES:Continuing Education
END:VEVENT
BEGIN:VEVENT
DTSTART;VALUE=DATE:20250220
DTEND;VALUE=DATE:20250221
DTSTAMP:20260420T010114
CREATED:20250123T212947Z
LAST-MODIFIED:20250610T162523Z
UID:14764-1740009600-1740095999@tactilemedical.com
SUMMARY:Understanding Brain Lymphatic Congestion: Mechanisms and Clinical Relevance
DESCRIPTION:8-9 pm ET \nJoin us for a 1-hour webinar where a supermicrosurgeon and a CLT will discuss theory\, research\, and therapy of the lymphatics in the brain. Take a deeper look into the anatomy and pathophysiology of lymph fluid in the brain\, and learn about the new surgical treatments and methods in lymphedema care for patients with lymphatic and neurological impairments. \nPresenters:\nWei F. Chen\, MD\, FACS\nCarmen Recupero\, BS\, LPTA\, CMT\, CLT \nRegistration \nPlease email medicaleducation@tactilemedical.com for additional information.
URL:https://tactilemedical.com/event/understanding-brain-lymphatic-congestion-mechanisms-and-clinical-relevance/
END:VEVENT
END:VCALENDAR