BEGIN:VCALENDAR
VERSION:2.0
PRODID:-//Tactile Medical - ECPv6.6.4.2//NONSGML v1.0//EN
CALSCALE:GREGORIAN
METHOD:PUBLISH
X-WR-CALNAME:Tactile Medical
X-ORIGINAL-URL:https://tactilemedical.com
X-WR-CALDESC:Events for Tactile Medical
REFRESH-INTERVAL;VALUE=DURATION:PT1H
X-Robots-Tag:noindex
X-PUBLISHED-TTL:PT1H
BEGIN:VTIMEZONE
TZID:UTC
BEGIN:STANDARD
TZOFFSETFROM:+0000
TZOFFSETTO:+0000
TZNAME:UTC
DTSTART:20240101T000000
END:STANDARD
END:VTIMEZONE
BEGIN:VEVENT
DTSTART;VALUE=DATE:20240605
DTEND;VALUE=DATE:20240606
DTSTAMP:20260421T041832
CREATED:20240517T203846Z
LAST-MODIFIED:20250610T164116Z
UID:13577-1717545600-1717631999@tactilemedical.com
SUMMARY:Lipedema Unveiled: Bridging the Gap Between Diagnosis and Comprehensive Treatment
DESCRIPTION:8 pm ET | 5 pm PT \nJoin us for an enlightening webinar moderated by Dr. Tony Gasparis on Lipedema\, where leading experts delve into critical aspects of this often misunderstood condition. Dr. Thomas Wright will shed light on the challenges of accurate diagnosis while Dr. Steven Dean will discuss the connective tissue origins of lipedema. Additionally\, a courageous patient will share her personal journey of being diagnosed with and living with lipedema. Don’t miss this opportunity to gain valuable knowledge and engage with experts. \n8 pm ET | 5 pm PT Registration  \nSpeakers:\nSteven Dean\, DO\, FSVM\, RPVI\nClinical Professor of Internal Medicine\, Division of Cardiovascular Medicine\, Ohio State University Wexner Medical Center \nTony Gasparis\, MD\, FACS\nSystem Chief\, Venous Disease\, Northwell Health\nChief Medical Officer\, Tactile Medical\nPast President of the American Venous Forum \nThomas Wright\, MD\, FACP\, FACPh\, RVT\nMedical Director of Laser\, Lipo and Vein Center \nPlease email medicaleducation@tactilemedical.com for additional information.
URL:https://tactilemedical.com/event/lipedema-unveiled-bridging-the-gap-between-diagnosis-and-comprehensive-treatment/
CATEGORIES:Webinar
END:VEVENT
BEGIN:VEVENT
DTSTART;VALUE=DATE:20240619
DTEND;VALUE=DATE:20240620
DTSTAMP:20260421T041832
CREATED:20240124T174650Z
LAST-MODIFIED:20250610T162343Z
UID:13068-1718755200-1718841599@tactilemedical.com
SUMMARY:Understanding Lipedema Diagnosis and Treatment: Continuing Education Course
DESCRIPTION:12-1 pm ET | 8-9 pm ET \nJoin us for a live 1 hour webinar on lipedema including diagnosis\, phenotypes\, genetics\, surgeries\, clinical data and treatment. Tactile Medical is pleased to offer one continuing education contact hours (.1 CE).*  \nObjectives: \nAt end of the program\, the participants will be able to: \n1. Define the characteristic features of lipedema benefiting from therapy \n2. Describe the diagnostic evidence for lipedema \n3. Explain the importance of PCD and how to tailor CDT to meet the patient need \n4. Decipher and discuss how clinicians can help support this misunderstood and underdiagnosed patient population \n5. Explain the need for early identification of patients with lipolymphedema in order to promote improved quality of life and function to enable participation in ADLs\, work\, and leisure activities \nTactile Medical is offering a complimentary virtual course for one continuing education contact hour (.1 CE). There is no penalty for cancellation of registration. \n12-1 pm ET Registration               8-9 pm ET Registration  \nPlease email medicaleducation@tactilemedical.com for additional information.
URL:https://tactilemedical.com/event/understanding-lipedema-diagnosis-and-treatment-continuing-education-course-2024/
CATEGORIES:Continuing Education
END:VEVENT
END:VCALENDAR