BEGIN:VCALENDAR
VERSION:2.0
PRODID:-//Tactile Medical - ECPv6.6.4.2//NONSGML v1.0//EN
CALSCALE:GREGORIAN
METHOD:PUBLISH
X-WR-CALNAME:Tactile Medical
X-ORIGINAL-URL:https://tactilemedical.com
X-WR-CALDESC:Events for Tactile Medical
REFRESH-INTERVAL;VALUE=DURATION:PT1H
X-Robots-Tag:noindex
X-PUBLISHED-TTL:PT1H
BEGIN:VTIMEZONE
TZID:UTC
BEGIN:STANDARD
TZOFFSETFROM:+0000
TZOFFSETTO:+0000
TZNAME:UTC
DTSTART:20240101T000000
END:STANDARD
END:VTIMEZONE
BEGIN:VEVENT
DTSTART;VALUE=DATE:20240320
DTEND;VALUE=DATE:20240321
DTSTAMP:20260423T164849
CREATED:20240110T175711Z
LAST-MODIFIED:20250610T164729Z
UID:13032-1710892800-1710979199@tactilemedical.com
SUMMARY:Breast Cancer-Related Lymphedema Continuing Education Course
DESCRIPTION:12-1 pm ET | 8-9 pm ET \nJoin us for a live webinar covering breast cancer risk factors\, diagnosis\, treatment\, and survivorship with an emphasis on identification and management of lymphedema. Tactile Medical is pleased to offer one continuing education contact hours (.1 CE).* There is no penalty for cancellation of registration. Please see registration site for list of states approved. \n12-1 pm ET Registration               8-9 pm ET Registration  \nPlease email medicaleducation@tactilemedical.com for additional information.
URL:https://tactilemedical.com/event/breast-cancer-related-lymphedema-continuing-education-course-2024/
CATEGORIES:Continuing Education
END:VEVENT
BEGIN:VEVENT
DTSTART;VALUE=DATE:20240327
DTEND;VALUE=DATE:20240328
DTSTAMP:20260423T164849
CREATED:20240305T173738Z
LAST-MODIFIED:20250610T162547Z
UID:13237-1711497600-1711583999@tactilemedical.com
SUMMARY:Transforming My Practice: Incorporating an APP for Chronic Edema Care
DESCRIPTION:8 pm ET | 5 pm PT \nAs the healthcare landscape continues to evolve\, physicians are constantly seeking opportunities to enhance efficiency and uphold high standards of patient care. Join Drs. Aggarwal\, Gasparis\, Schoonover\, and Jennifer Clark\, PA-C\, as they share insights on how integrating advanced practice providers (APPs) has revolutionized their approach to caring for patients with chronic edema. \n8 pm ET | 5 pm PT Registration  \nSpeakers:\nManu Aggarwal\, MD\, MHSA\, DABVLM\nCertified/Diplomat in Venous and Lymphatic Health\, Board Certified Family Medicine\nVein Care Center \nJennifer Clark\, PA-C\, MPAS\, MBA\nDirector of Vascular Services\, Pima Heart & Vascular \nTony Gasparis\, MD\, FACS\nSystem Chief\, Venous Disease\, Northwell Health\nChief Medical Officer\, Tactile Medical\nPast President of the American Venous Forum \nJeffery P. Schoonover\, MD\, RPVI\, DABVLM\nChief Medical Officer\, Indiana Vein Specialists\nFellow\, American Vein and Lymphatic Society \nPlease email medicaleducation@tactilemedical.com for additional information.
URL:https://tactilemedical.com/event/transforming-my-practice-incorporating-an-app-for-chronic-edema-care/
CATEGORIES:Webinar
END:VEVENT
END:VCALENDAR