BEGIN:VCALENDAR
VERSION:2.0
PRODID:-//Tactile Medical - ECPv6.6.4.2//NONSGML v1.0//EN
CALSCALE:GREGORIAN
METHOD:PUBLISH
X-WR-CALNAME:Tactile Medical
X-ORIGINAL-URL:https://tactilemedical.com
X-WR-CALDESC:Events for Tactile Medical
REFRESH-INTERVAL;VALUE=DURATION:PT1H
X-Robots-Tag:noindex
X-PUBLISHED-TTL:PT1H
BEGIN:VTIMEZONE
TZID:UTC
BEGIN:STANDARD
TZOFFSETFROM:+0000
TZOFFSETTO:+0000
TZNAME:UTC
DTSTART:20220101T000000
END:STANDARD
END:VTIMEZONE
BEGIN:VEVENT
DTSTART;VALUE=DATE:20220216
DTEND;VALUE=DATE:20220217
DTSTAMP:20260421T114403
CREATED:20220121T203231Z
LAST-MODIFIED:20250610T163508Z
UID:8590-1644969600-1645055999@tactilemedical.com
SUMMARY:Phlebolymphedema: Overview And Treatment Continuing Education Course
DESCRIPTION:12-1 pm ET | 8-9 pm ET \nJoin us for a live webinar to learn the anatomy and physiology of the lymphatic and vascular systems\, including pathophysiology of phlebolymphedema. \nTactile Medical is offering a complimentary virtual course for one continuing education contact hours (.1 CE). There is no penalty for cancellation of registration. Please visit page registration to see list of approved states. \n12pm – 1 pm ET Registration               8pm – 9 pm ET Registration  \nSpeaker:\nSusan Ellenson\, PT\, CLT-LANA\, CWS\, CLWT \nPlease email medicaleducation@tactilemedical.com for additional information.
URL:https://tactilemedical.com/event/phlebolymphedema-overview-and-treatment-continuing-education-course/
CATEGORIES:Continuing Education
END:VEVENT
BEGIN:VEVENT
DTSTART;VALUE=DATE:20220210
DTEND;VALUE=DATE:20220211
DTSTAMP:20260421T114403
CREATED:20220121T202525Z
LAST-MODIFIED:20250610T163814Z
UID:8587-1644451200-1644537599@tactilemedical.com
SUMMARY:Optimal Treatment Practices in Cancer Survivorship
DESCRIPTION:8-9 pm ET \nSide effects stemming from cancer treatment can leave survivors with a compromised quality of life. In fact\, half of people affected by cancer will require radiation therapy at some point during the course of their disease. Join us to hear Dr. Michael Stubblefield\, a specialist in cancer rehabilitation\, discuss the common effects likely to be encountered after cancer treatment. He will share what is crucial for clinicians to look for when treating breast\, head and neck and gynecological cancer survivors. \n8pm – 9 pm ET Registration  \nSpeaker:\nDr. Michael Stubblefield\, MD \nPlease email medicaleducation@tactilemedical.com for additional information.
URL:https://tactilemedical.com/event/optimal-treatment-practices-in-cancer-survivorship/
END:VEVENT
END:VCALENDAR