BEGIN:VCALENDAR
VERSION:2.0
PRODID:-//Tactile Medical - ECPv6.6.4.2//NONSGML v1.0//EN
CALSCALE:GREGORIAN
METHOD:PUBLISH
X-ORIGINAL-URL:https://tactilemedical.com
X-WR-CALDESC:Events for Tactile Medical
REFRESH-INTERVAL;VALUE=DURATION:PT1H
X-Robots-Tag:noindex
X-PUBLISHED-TTL:PT1H
BEGIN:VTIMEZONE
TZID:UTC
BEGIN:STANDARD
TZOFFSETFROM:+0000
TZOFFSETTO:+0000
TZNAME:UTC
DTSTART:20250101T000000
END:STANDARD
END:VTIMEZONE
BEGIN:VEVENT
DTSTART;VALUE=DATE:20250521
DTEND;VALUE=DATE:20250522
DTSTAMP:20260424T023717
CREATED:20250107T192516Z
LAST-MODIFIED:20250610T164338Z
UID:14320-1747785600-1747871999@tactilemedical.com
SUMMARY:Fibrosis in Lymphedema
DESCRIPTION:12-1 pm ET | 8-9 pm ET \nJoin us for a 1-hour live webinar focused on fibrosis management for patients with various lymphedema etiologies. The program will focus on how unmanaged fibrosis can be detrimental to patient outcomes after tissue injury\, infection\, and inflammation\, and how using techniques to support the lymphatic system can enhance outcomes for patients with fibrotic skin changes.  \nAt end of the program\, the participants will be able to: \n1. Describe the pathological progression of fibrosis \n2. Recognize clinical presentations of fibrosis in different lymphedema etiologies \n3. Discuss how progressive fibrosis can impact patient function and quality of life \n4. Discuss the integration of techniques and modalities in the treatment of fibrosis \n5. Introduce long term management options to minimize the progression of fibrosis \nTactile Medical (TM) is pleased to offer this complimentary virtual course for one continuing education contact hours (.1 CE). There is no penalty for cancellation of registration. \nRegistration \nPlease email medicaleducation@tactilemedical.com for additional information.
URL:https://tactilemedical.com/event/fibrosis-in-lymphedema/
END:VEVENT
END:VCALENDAR