BEGIN:VCALENDAR
VERSION:2.0
PRODID:-//Tactile Medical - ECPv6.6.4.2//NONSGML v1.0//EN
CALSCALE:GREGORIAN
METHOD:PUBLISH
X-WR-CALNAME:Tactile Medical
X-ORIGINAL-URL:https://tactilemedical.com
X-WR-CALDESC:Events for Tactile Medical
REFRESH-INTERVAL;VALUE=DURATION:PT1H
X-Robots-Tag:noindex
X-PUBLISHED-TTL:PT1H
BEGIN:VTIMEZONE
TZID:UTC
BEGIN:STANDARD
TZOFFSETFROM:+0000
TZOFFSETTO:+0000
TZNAME:UTC
DTSTART:20250101T000000
END:STANDARD
END:VTIMEZONE
BEGIN:VEVENT
DTSTART;VALUE=DATE:20250409
DTEND;VALUE=DATE:20250410
DTSTAMP:20260423T104912
CREATED:20250311T210619Z
LAST-MODIFIED:20250610T164212Z
UID:15037-1744156800-1744243199@tactilemedical.com
SUMMARY:Healing Beyond Cancer: A Multidisciplinary Approach to Head and Neck Cancer-Related Lymphedema from ENT and SLP Specialists
DESCRIPTION:8-9 pm ET \nJoin us during Head and Neck Cancer Awareness Month as ENT and SLP experts discuss ways you can enhance your practice and support your patients through their survivorship journey. Learn about the latest lymphedema treatment options\, how head and neck cancer survivors can advocate for themselves\, and new research emphasizing that it’s never too late to seek help. \nPresenters:\nRon Karni\, MD\nLaura Christensen\, MS\, CCC-SLP \nRegister today! \nPlease email medicaleducation@tactilemedical.com for additional information.
URL:https://tactilemedical.com/event/healing-beyond-cancer-a-multidisciplinary-approach-to-head-neck-cancer-related-lymphedema-from-ent-and-slp-specialists/
CATEGORIES:Webinar
END:VEVENT
END:VCALENDAR