BEGIN:VCALENDAR
VERSION:2.0
PRODID:-//Tactile Medical - ECPv6.6.4.2//NONSGML v1.0//EN
CALSCALE:GREGORIAN
METHOD:PUBLISH
X-ORIGINAL-URL:https://tactilemedical.com
X-WR-CALDESC:Events for Tactile Medical
REFRESH-INTERVAL;VALUE=DURATION:PT1H
X-Robots-Tag:noindex
X-PUBLISHED-TTL:PT1H
BEGIN:VTIMEZONE
TZID:UTC
BEGIN:STANDARD
TZOFFSETFROM:+0000
TZOFFSETTO:+0000
TZNAME:UTC
DTSTART:20240101T000000
END:STANDARD
END:VTIMEZONE
BEGIN:VEVENT
DTSTART;VALUE=DATE:20241023
DTEND;VALUE=DATE:20241024
DTSTAMP:20260419T150436
CREATED:20240821T205137Z
LAST-MODIFIED:20250610T164928Z
UID:13676-1729641600-1729727999@tactilemedical.com
SUMMARY:Access to Care for Patients with Breast Cancer
DESCRIPTION:8 pm ET | 5 pm PT \nJoin us for a 1-hour webinar focused on the challenges and triumphs of improving access to care for breast cancer patients. This event will show that a community working together can provide the best outcomes for ALL breast cancer patients\, regardless of their barriers. \n8 pm ET | 5 pm PT Registration  \nSpeakers:\nMatthew B. Spraker\, MD\nAlexandra D. Hill\, PT\, DPT\, CLT-LANA\nCassandra Krogman\, MSN\, RN \nPlease email medicaleducation@tactilemedical.com for additional information.
URL:https://tactilemedical.com/event/access-to-care-for-patients-with-breast-cancer/
CATEGORIES:Webinar
END:VEVENT
END:VCALENDAR