BEGIN:VCALENDAR
VERSION:2.0
PRODID:-//Tactile Medical - ECPv6.6.4.2//NONSGML v1.0//EN
CALSCALE:GREGORIAN
METHOD:PUBLISH
X-ORIGINAL-URL:https://tactilemedical.com
X-WR-CALDESC:Events for Tactile Medical
REFRESH-INTERVAL;VALUE=DURATION:PT1H
X-Robots-Tag:noindex
X-PUBLISHED-TTL:PT1H
BEGIN:VTIMEZONE
TZID:UTC
BEGIN:STANDARD
TZOFFSETFROM:+0000
TZOFFSETTO:+0000
TZNAME:UTC
DTSTART:20240101T000000
END:STANDARD
END:VTIMEZONE
BEGIN:VEVENT
DTSTART;VALUE=DATE:20240425
DTEND;VALUE=DATE:20240426
DTSTAMP:20260422T000803
CREATED:20240319T141526Z
LAST-MODIFIED:20250610T162654Z
UID:13317-1714003200-1714089599@tactilemedical.com
SUMMARY:The Impact of Head and Neck Lymphedema on Swallowing: The Evolution of a Dysphagia Practice
DESCRIPTION:8 pm ET | 5 pm PT \nApril is Head and Neck Cancer Awareness Month. Please join Jacqueline Mojica\, MS\, CCC/SLP\, CLT for an educational webinar about the evolution of her dysphagia practice. \n8 pm ET | 5 pm PT Registration  \nSpeaker:\nJacqueline Mojica\, MS\, CCC/SLP\, CLT\nClinical Specialist\, Speech Pathology\nClinical Assistant Professor\, Department of Otolaryngology\nLaura and Isaac Perlmutter Cancer Center\nNYU Langone Medical Center \nPlease email medicaleducation@tactilemedical.com for additional information.
URL:https://tactilemedical.com/event/the-impact-of-head-and-neck-lymphedema-on-swallowing-the-evolution-of-a-dysphagia-practice/
CATEGORIES:Webinar
END:VEVENT
END:VCALENDAR