BEGIN:VCALENDAR
VERSION:2.0
PRODID:-//Tactile Medical - ECPv6.6.4.2//NONSGML v1.0//EN
CALSCALE:GREGORIAN
METHOD:PUBLISH
X-ORIGINAL-URL:https://tactilemedical.com
X-WR-CALDESC:Events for Tactile Medical
REFRESH-INTERVAL;VALUE=DURATION:PT1H
X-Robots-Tag:noindex
X-PUBLISHED-TTL:PT1H
BEGIN:VTIMEZONE
TZID:UTC
BEGIN:STANDARD
TZOFFSETFROM:+0000
TZOFFSETTO:+0000
TZNAME:UTC
DTSTART:20240101T000000
END:STANDARD
END:VTIMEZONE
BEGIN:VEVENT
DTSTART;VALUE=DATE:20240410
DTEND;VALUE=DATE:20240411
DTSTAMP:20260422T000516
CREATED:20240112T161211Z
LAST-MODIFIED:20250610T162905Z
UID:13042-1712707200-1712793599@tactilemedical.com
SUMMARY:Supportive Care and Rehabilitation for Head and Neck Cancer Survivors
DESCRIPTION:12-1 pm ET | 8-9 pm ET \nJoin us for a live webinar on head and neck cancer\, including causes\, diagnosis\, treatment modalities\, survivorship\, in addition to the treatment and management of head and neck cancer-related lymphedema. \nObjectives: \nAt end of the program\, the participants will be able to: \n1. Explain the revised Starling principle and it’s implications for management of lymphedema. \n2. Explain the effects of head and neck cancer-related treatment on the lymphatic system. \n3. Describe the signs and symptoms of both internal and external head and neck cancer-related lymphedema and its implications on patient’s function. \n4. Define the four components of Phase I and Phase II of Complete Decongestive Therapy (CDT) as it relates to head and neck cancer. \n5. Explain the clinical benefits of advanced pneumatic compression as an adjunct to patient’s self management of head and neck cancer-related lymphedema. \nTactile Medical is pleased to offer one continuing education contact hour (.1 CE and .10 ASHA CEUs).* There is no penalty for cancellation of registration. \n12-1 pm ET Registration               8-9 pm ET Registration  \nPlease email medicaleducation@tactilemedical.com for additional information.
URL:https://tactilemedical.com/event/supportive-care-and-rehabilitation-for-head-and-neck-cancer-survivors-2024/
CATEGORIES:Continuing Education
END:VEVENT
END:VCALENDAR